BEGIN:VCALENDAR
VERSION:2.0
PRODID:-//ChamberMaster//Event Calendar 2.0//EN
METHOD:PUBLISH
X-PUBLISHED-TTL:P3D
REFRESH-INTERVAL:P3D
CALSCALE:GREGORIAN
BEGIN:VEVENT
DTSTART:20131218T153000Z
DTEND:20131218T163000Z
X-MICROSOFT-CDO-ALLDAYEVENT:FALSE
SUMMARY:Business@Breakfast
DESCRIPTION:Special Guest Speaker: Gigi Fix\, SERVPRO of Chino/Chino Hills\n\nTopic: New Year's Resolution for a Healthy New Year\n\nBreakfast Sponsors: Gigi Fix\, SERVPRO of Chino/Chino Hills and Kim Dubois\, Fine Community Phone Books\n\n\n\nIf you are interested in being a speaker or breakfast sponsor\, call the Chamber Office at 909-627-6177
X-ALT-DESC;FMTTYPE=text/html:<strong>Special Guest Speaker: Gigi Fix\, SERVPRO&nbsp\;of Chino/Chino Hills</strong><br />\n<strong>Topic: New Year&#39\;s Resolution for a Healthy New Year<br />\nBreakfast Sponsors: Gigi Fix\, SERVPRO of Chino/Chino Hills and Kim Dubois\, Fine Community Phone Books</strong><br />\n<br />\n<strong>If you are interested in being a speaker or breakfast sponsor\, call the Chamber Office at 909-627-6177</strong>
LOCATION:Chamber Office 13150 7th Street\, Chino
UID:e.1511.486
SEQUENCE:3
DTSTAMP:20260421T181946Z
URL:https://business.chinovalleychamber.com/events/details/business-breakfast-12-18-2013-486
END:VEVENT

END:VCALENDAR
