BEGIN:VCALENDAR
VERSION:2.0
PRODID:-//ChamberMaster//Event Calendar 2.0//EN
METHOD:PUBLISH
X-PUBLISHED-TTL:P3D
REFRESH-INTERVAL:P3D
CALSCALE:GREGORIAN
BEGIN:VEVENT
DTSTART:20131211T153000Z
DTEND:20131211T160000Z
X-MICROSOFT-CDO-ALLDAYEVENT:FALSE
SUMMARY:Business@Breakfast
DESCRIPTION:Special Guest Speaker: Kevin Perkins\, CalChoice Investments\, Inc.\n\nTopic: California's Premier Real Estate Vehicle for the 21st Century\n\nBreakfast Sponsor: Kevin Perkins\, CalChoice Investments\, Inc.\n\n\n\nIf you are interested in being a speaker or breakfast sponsor\, call the Chamber Office at 909-627-6177
X-ALT-DESC;FMTTYPE=text/html:<strong>Special Guest Speaker: Kevin Perkins\, CalChoice Investments\, Inc.</strong><br />\n<strong>Topic: California&#39\;s Premier Real Estate Vehicle for the 21st Century<br />\nBreakfast Sponsor:&nbsp\;</strong><strong>Kevin Perkins\, CalChoice Investments\, Inc.</strong><br />\n<br />\n<strong>If you are interested in being a speaker or breakfast sponsor\, call the Chamber Office at 909-627-6177</strong>
LOCATION:Chamber Office 13150 7th Street\, Chino
UID:e.1511.484
SEQUENCE:3
DTSTAMP:20260421T192850Z
URL:https://business.chinovalleychamber.com/events/details/business-breakfast-12-11-2013-484
END:VEVENT

END:VCALENDAR
