BEGIN:VCALENDAR
VERSION:2.0
PRODID:-//ChamberMaster//Event Calendar 2.0//EN
METHOD:PUBLISH
X-PUBLISHED-TTL:P3D
REFRESH-INTERVAL:P3D
CALSCALE:GREGORIAN
BEGIN:VEVENT
DTSTART;VALUE=DATE:20131120
DTEND;VALUE=DATE:20131121
TRANSP:TRANSPARENT
X-MICROSOFT-CDO-ALLDAYEVENT:TRUE
SUMMARY:Business@Breakfast
DESCRIPTION:Special Guest Speaker: Reba Davis\, Legal Shield\, Independent Associate\n\nTopic: Identity Theft\n\nBreakfast Sponsor: Reba Davis\, Legal Shield\, Independent Associate\n\n\n\nIf you are interested in being a speaker or breakfast sponsor\, call the Chamber Office at 909-627-6177
X-ALT-DESC;FMTTYPE=text/html:<strong>Special Guest Speaker: Reba Davis\, Legal Shield\,&nbsp\;</strong><strong>Independent Associate</strong><br />\n<strong>Topic: Identity Theft<br />\nBreakfast Sponsor: Reba Davis\, Legal Shield\, Independent Associate<br />\n<br />\nIf you are interested in being a speaker or breakfast sponsor\, call the Chamber Office at 909-627-6177</strong>
LOCATION:Chamber Office 13150 7th Street\, Chino
UID:e.1511.459
SEQUENCE:3
DTSTAMP:20260421T193536Z
URL:https://business.chinovalleychamber.com/events/details/business-breakfast-11-20-2013-459
END:VEVENT

END:VCALENDAR
