BEGIN:VCALENDAR
VERSION:2.0
PRODID:-//ChamberMaster//Event Calendar 2.0//EN
METHOD:PUBLISH
X-PUBLISHED-TTL:P3D
REFRESH-INTERVAL:P3D
CALSCALE:GREGORIAN
BEGIN:VEVENT
DTSTART:20131113T153000Z
DTEND:20131113T163000Z
X-MICROSOFT-CDO-ALLDAYEVENT:FALSE
SUMMARY:Business@Breakfast
DESCRIPTION:Special Guest Speaker: Phyllis Solgere\, Long Term Care Insurance\n\nTopic: How to Beat the Changing Rules - Long Term Care Insurance as a Worksite Benefit\n\nBreakfast Sponsor: Long Term Care Insurance\n\n\n\nIf you are interested in being a speaker or breakfast sponsor\, call the Chamber Office at 909-627-6177
X-ALT-DESC;FMTTYPE=text/html:<strong style="font-size: 14.399999618530273px\;">Special Guest Speaker: Phyllis Solgere\, Long Term Care Insurance<br />\nTopic: How to Beat the Changing Rules - Long Term Care Insurance as a Worksite Benefit<br />\nBreakfast Sponsor: Long Term Care Insurance</strong><br />\n<br />\n<strong style="font-size: 14.399999618530273px\;">If you are interested in being a speaker or breakfast sponsor\, call the Chamber Office at 909-627-6177</strong>
LOCATION:Chamber Office 13150 7th Street\, Chino
UID:e.1511.456
SEQUENCE:3
DTSTAMP:20260421T193637Z
URL:https://business.chinovalleychamber.com/events/details/business-breakfast-11-13-2013-456
END:VEVENT

END:VCALENDAR
