BEGIN:VCALENDAR
VERSION:2.0
PRODID:-//ChamberMaster//Event Calendar 2.0//EN
METHOD:PUBLISH
X-PUBLISHED-TTL:P3D
REFRESH-INTERVAL:P3D
CALSCALE:GREGORIAN
BEGIN:VEVENT
DTSTART:20131106T153000Z
DTEND:20131106T163000Z
X-MICROSOFT-CDO-ALLDAYEVENT:FALSE
SUMMARY:Business@Breakfast
DESCRIPTION:Special Guest Speaker: Miguel Park\, Park Chiropractic\n\nTopic: Live Your Dreams on the Foundation of Wellness\n\nBreakfast Sponsor: Park Chiropractic \n\n\n\nIf you are interested in being a speaker or breakfast sponsor\, call the Chamber Office at 909-627-6177
X-ALT-DESC;FMTTYPE=text/html:<span style="font-size: 14px\;"><strong>Special Guest Speaker: Miguel Park\, Park Chiropractic<br />\nTopic: Live Your Dreams on the Foundation of Wellness<br />\nBreakfast Sponsor:&nbsp\;</strong><strong>Park Chiropractic</strong><strong>&nbsp\;<br />\n<br />\nIf you are interested in being a speaker or breakfast sponsor\, call the Chamber Office at 909-627-6177</strong></span>
LOCATION:Chamber Office 13150 7th Street\, Chino
UID:e.1511.455
SEQUENCE:3
DTSTAMP:20260421T193536Z
URL:https://business.chinovalleychamber.com/events/details/business-breakfast-11-06-2013-455
END:VEVENT

END:VCALENDAR
