BEGIN:VCALENDAR
VERSION:2.0
PRODID:-//ChamberMaster//Event Calendar 2.0//EN
METHOD:PUBLISH
X-PUBLISHED-TTL:P3D
REFRESH-INTERVAL:P3D
CALSCALE:GREGORIAN
BEGIN:VEVENT
DTSTART:20131030T143000Z
DTEND:20131030T153000Z
X-MICROSOFT-CDO-ALLDAYEVENT:FALSE
SUMMARY:Business@Breakfast
DESCRIPTION:Special Guest Speaker: Gary Ovitt\, 4th District Supervisor\, County of San Bernardino\n\nTopic: Proposed Revisions to the County Charter\n\nBreakfast Sponsor: Gary Ovitt\, 4th District Supervisor\, County of San Bernardino\n\n\n\nIf you are interested in being a speaker or breakfast sponsor\, call the Chamber Office at 909-627-6177
X-ALT-DESC;FMTTYPE=text/html:Special Guest Speaker: Gary Ovitt\, 4th&nbsp\;District Supervisor\, County of San Bernardino<br />\nTopic: Proposed Revisions to the County Charter<br />\nBreakfast Sponsor:&nbsp\;Gary&nbsp\;Ovitt\,&nbsp\;4th&nbsp\;District Supervisor\, County of San Bernardino<br />\n<br />\nIf you are interested in being a speaker or breakfast sponsor\, call the Chamber Office at 909-627-6177
LOCATION:Chamber Office 13150 7th Street\, Chino
UID:e.1511.435
SEQUENCE:3
DTSTAMP:20260421T210038Z
URL:https://business.chinovalleychamber.com/events/details/business-breakfast-10-30-2013-435
END:VEVENT

END:VCALENDAR
