BEGIN:VCALENDAR
VERSION:2.0
PRODID:-//ChamberMaster//Event Calendar 2.0//EN
METHOD:PUBLISH
X-PUBLISHED-TTL:P3D
REFRESH-INTERVAL:P3D
CALSCALE:GREGORIAN
BEGIN:VEVENT
DTSTART:20131023T143000Z
DTEND:20131023T153000Z
X-MICROSOFT-CDO-ALLDAYEVENT:FALSE
SUMMARY:Business@Breakfast
DESCRIPTION:Special Guest Speaker: Brian Curry\, Pet Food Emporium\n\nTopic: Exotic Pets\n\nBreakfast Sponsor: Brian Curry\, Pet Food Emporium\n\n\n\nIf you are interested in being a speaker or breakfast sponsor\, call the Chamber Office at 909-627-6177
X-ALT-DESC;FMTTYPE=text/html:<span style="font-size:14px\;"><strong>Special Guest Speaker: Brian Curry\, Pet Food Emporium<br />\nTopic: Exotic Pets<br />\nBreakfast Sponsor: Brian Curry\, Pet Food Emporium<br />\n<br />\nIf you are interested in being a speaker or breakfast sponsor\, call the Chamber Office at 909-627-6177</strong></span>
LOCATION:Chamber Office 13150 7th Street\, Chino
UID:e.1511.434
SEQUENCE:3
DTSTAMP:20260421T223023Z
URL:https://business.chinovalleychamber.com/events/details/business-breakfast-10-23-2013-434
END:VEVENT

END:VCALENDAR
