BEGIN:VCALENDAR
VERSION:2.0
PRODID:-//ChamberMaster//Event Calendar 2.0//EN
METHOD:PUBLISH
X-PUBLISHED-TTL:P3D
REFRESH-INTERVAL:P3D
CALSCALE:GREGORIAN
BEGIN:VEVENT
DTSTART:20131016T143000Z
DTEND:20131016T153000Z
X-MICROSOFT-CDO-ALLDAYEVENT:FALSE
SUMMARY:Business@Breakfast
DESCRIPTION:Special Guest Speaker: Francisco Vargas\, Trinity Diagnostics\n\nTopic: Ultrasounds\, Mainly Trinity Diagnostics and the services they provide\n\nBreakfast Sponsor: Trinity Diagnostics\n\n\n\nIf you are interested in being a speaker or breakfast sponsor\, call the Chamber Office at 909-627-6177
X-ALT-DESC;FMTTYPE=text/html:Special Guest Speaker: Francisco Vargas\, Trinity Diagnostics<br />\nTopic: Ultrasounds\, Mainly Trinity Diagnostics and the services they provide<br />\nBreakfast Sponsor: Trinity Diagnostics<br />\n<br />\nIf you are interested in being a speaker or breakfast sponsor\, call the Chamber Office at 909-627-6177
LOCATION:Chamber Office 13150 7th Street\, Chino
UID:e.1511.433
SEQUENCE:3
DTSTAMP:20260421T205946Z
URL:https://business.chinovalleychamber.com/events/details/business-breakfast-10-16-2013-433
END:VEVENT

END:VCALENDAR
