BEGIN:VCALENDAR
VERSION:2.0
PRODID:-//ChamberMaster//Event Calendar 2.0//EN
METHOD:PUBLISH
X-PUBLISHED-TTL:P3D
REFRESH-INTERVAL:P3D
CALSCALE:GREGORIAN
BEGIN:VEVENT
DTSTART:20131009T143000Z
DTEND:20131009T153000Z
X-MICROSOFT-CDO-ALLDAYEVENT:FALSE
SUMMARY:Business@Breakfast
DESCRIPTION:Special Guest Speaker: Dr. Cheng & Dr. Ta\, Foundation of Wellness\n\nTopic: Carpal Tunnel Syndrome: Presenting a Multi-Faceted Approach for Repetitive Strain Injuries\n\nBreakfast Sponsor: Foundation of Wellness\n\n\n\nIf you are interested in being a speaker or breakfast sponsor\, call the Chamber Office at 909-627-6177
X-ALT-DESC;FMTTYPE=text/html:<strong>Special Guest Speaker: Dr. Cheng &amp\; Dr. Ta\, Foundation of Wellness<br />\nTopic: Carpal Tunnel Syndrome: Presenting a Multi-Faceted Approach for Repetitive Strain Injuries<br />\nBreakfast Sponsor: Foundation of Wellness<br />\n<br />\nIf you are interested in being a speaker or breakfast sponsor\, call the Chamber Office at 909-627-6177</strong>
LOCATION:Chamber Office 13150 7th Street\, Chino
UID:e.1511.432
SEQUENCE:3
DTSTAMP:20260421T211044Z
URL:https://business.chinovalleychamber.com/events/details/business-breakfast-10-09-2013-432
END:VEVENT

END:VCALENDAR
