BEGIN:VCALENDAR
VERSION:2.0
PRODID:-//ChamberMaster//Event Calendar 2.0//EN
METHOD:PUBLISH
X-PUBLISHED-TTL:P3D
REFRESH-INTERVAL:P3D
CALSCALE:GREGORIAN
BEGIN:VEVENT
DTSTART:20131002T143000Z
DTEND:20131002T153000Z
X-MICROSOFT-CDO-ALLDAYEVENT:FALSE
SUMMARY:Business@Breakfast
DESCRIPTION:Special Guest Speaker: Mark Antonio\, Universal Seminars\n\nTopic: Negotiate & Closing The Sale & Dealing With Objections\n\nBreakfast Sponsor: Mark Antonio\, Universal Seminars\n\n\n\nIf you are interested in being a speaker or breakfast sponsor\, call the Chamber Office at 909-627-6177
X-ALT-DESC;FMTTYPE=text/html:Special Guest Speaker: Mark Antonio\, Universal Seminars<br />\nTopic: Negotiate &amp\; Closing The Sale &amp\; Dealing With Objections<br />\nBreakfast Sponsor:&nbsp\;Mark Antonio\, Universal Seminars<br />\n<br />\nIf you are interested in being a speaker or breakfast sponsor\, call the Chamber Office at 909-627-6177
LOCATION:Chamber Office 13150 7th Street\, Chino
UID:e.1511.431
SEQUENCE:3
DTSTAMP:20260421T210356Z
URL:https://business.chinovalleychamber.com/events/details/business-breakfast-10-02-2013-431
END:VEVENT

END:VCALENDAR
