BEGIN:VCALENDAR
VERSION:2.0
PRODID:-//ChamberMaster//Event Calendar 2.0//EN
METHOD:PUBLISH
X-PUBLISHED-TTL:P3D
REFRESH-INTERVAL:P3D
CALSCALE:GREGORIAN
BEGIN:VEVENT
DTSTART:20130925T143000Z
DTEND:20130925T153000Z
X-MICROSOFT-CDO-ALLDAYEVENT:FALSE
SUMMARY:Business@Breakfast
DESCRIPTION:Special Guest Speaker: Gabriel Hill\, CIC\, Southern California Insurance Brokerage\, INC.\n\nTopic: Business Insurance: Basic Coverage's Companies Should Have\n\nBreakfast Sponsor: Gabriel Hill\, CIC\, Southern California Insurance Brokerage\, INC\n\n\n\nIf you are interested in being a speaker or breakfast sponsor\, call the Chamber Office at 909-627-6177
X-ALT-DESC;FMTTYPE=text/html:Special Guest Speaker: Gabriel Hill\, CIC\, Southern California Insurance Brokerage\, INC.<br />\nTopic: Business Insurance: Basic Coverage&#39\;s Companies Should Have<br />\nBreakfast Sponsor: Gabriel Hill\, CIC\, Southern California Insurance Brokerage\, INC<br />\n<br />\nIf you are interested in being a speaker or breakfast sponsor\, call the Chamber Office at 909-627-6177
LOCATION:Chamber Office 13150 7th Street\, Chino
UID:e.1511.389
SEQUENCE:3
DTSTAMP:20260421T223058Z
URL:https://business.chinovalleychamber.com/events/details/business-breakfast-09-25-2013-389
END:VEVENT

END:VCALENDAR
