BEGIN:VCALENDAR
VERSION:2.0
PRODID:-//ChamberMaster//Event Calendar 2.0//EN
METHOD:PUBLISH
X-PUBLISHED-TTL:P3D
REFRESH-INTERVAL:P3D
CALSCALE:GREGORIAN
BEGIN:VEVENT
DTSTART:20130918T143000Z
DTEND:20130918T153000Z
X-MICROSOFT-CDO-ALLDAYEVENT:FALSE
SUMMARY:Business@Breakfast
DESCRIPTION:Special Guest Speaker: Jim Keneaster\, ABC Services\, Applied Business Computer Services\n\nTopic: How to Protect and Maintain Your PC's & Laptops\n\nBreakfast Sponsor: Jim Keneaster\, ABC Services\, Applied Business Computer Services\n\n\n\nIf you are interested in being a speaker or breakfast sponsor\, call the Chamber Office at 909-627-6177
X-ALT-DESC;FMTTYPE=text/html:Special Guest Speaker: Jim Keneaster\, ABC Services\, Applied Business Computer Services<br />\nTopic: How to Protect and Maintain Your PC&#39\;s &amp\; Laptops<br />\nBreakfast Sponsor: Jim Keneaster\, ABC Services\,&nbsp\;Applied Business Computer Services<br />\n<br />\nIf you are interested in being a speaker or breakfast sponsor\, call the Chamber Office at 909-627-6177
LOCATION:Chamber Office 13150 7th Street\, Chino
UID:e.1511.393
SEQUENCE:3
DTSTAMP:20260421T223059Z
URL:https://business.chinovalleychamber.com/events/details/business-breakfast-09-18-2013-393
END:VEVENT

END:VCALENDAR
