BEGIN:VCALENDAR
VERSION:2.0
PRODID:-//ChamberMaster//Event Calendar 2.0//EN
METHOD:PUBLISH
X-PUBLISHED-TTL:P3D
REFRESH-INTERVAL:P3D
CALSCALE:GREGORIAN
BEGIN:VEVENT
DTSTART:20130911T143000Z
DTEND:20130911T153000Z
X-MICROSOFT-CDO-ALLDAYEVENT:FALSE
SUMMARY:Business@Breakfast
DESCRIPTION:Special Guest Speaker: Christine Abellon\, DBT\, Central Care Physical Therapy\n\nTopic: Low Back Pain Prevention & Treatment\n\nBreakfast Sponsor: Christine Abellon\, DBT\, Central Care Physical Therapy\n\n\n\nIf you are interested in being a speaker or breakfast sponsor\, call the Chamber Office at 909-627-6177
X-ALT-DESC;FMTTYPE=text/html:Special Guest Speaker: Christine Abellon\, DBT\, Central Care Physical Therapy<br />\nTopic: Low Back Pain Prevention &amp\; Treatment<br />\nBreakfast Sponsor: Christine Abellon\, DBT\, Central Care Physical Therapy<br />\n<br />\nIf you are interested in being a speaker or breakfast sponsor\, call the Chamber Office at 909-627-6177
LOCATION:Chamber Office 13150 7th Street\, Chino
UID:e.1511.392
SEQUENCE:3
DTSTAMP:20260421T223022Z
URL:https://business.chinovalleychamber.com/events/details/business-breakfast-09-11-2013-392
END:VEVENT

END:VCALENDAR
