BEGIN:VCALENDAR
VERSION:2.0
PRODID:-//ChamberMaster//Event Calendar 2.0//EN
METHOD:PUBLISH
X-PUBLISHED-TTL:P3D
REFRESH-INTERVAL:P3D
CALSCALE:GREGORIAN
BEGIN:VEVENT
DTSTART:20140910T143000Z
DTEND:20140910T153000Z
X-MICROSOFT-CDO-ALLDAYEVENT:FALSE
SUMMARY:Business@Breakfast
DESCRIPTION:Special Guest: Donna Edman\, Photography\n\nTopic: "Elements of Composition"\n\nBreakfast Sponsor: Donna Edman\, Photography \n\nIf you are interested in being a speaker or breakfast sponsor\, call the Chamber Office at 909-627-6177\n\n\n\nClick Here to View Full-Size PDF
X-ALT-DESC;FMTTYPE=text/html:<p><strong><span style="color: rgb(178\, 34\, 34)\;">Special Guest: Donna Edman\, Photography</span></strong><br />\n<strong>Topic: &quot\;Elements of Composition&quot\;<br />\n<span style="color: rgb(178\, 34\, 34)\;">Breakfast Sponsor: Donna&nbsp\;Edman\, Photography&nbsp\;</span></strong></p>\n\n<p><strong>If you are interested in being a speaker or breakfast sponsor\, call the Chamber Office at 909-627-6177<br />\n<br />\n<a href="http://cloud.chambermaster.com/userfiles/UserFiles/chambers/1511/File/BBSept.1014-1.pdf">Click Here to View Full-Size PDF</a></strong></p>\n
LOCATION:Chamber Office 13150 7th Street\, Chino
UID:e.1511.649
SEQUENCE:3
DTSTAMP:20260421T105932Z
URL:https://business.chinovalleychamber.com/events/details/business-breakfast-09-10-2014-649
END:VEVENT

END:VCALENDAR
