BEGIN:VCALENDAR
VERSION:2.0
PRODID:-//ChamberMaster//Event Calendar 2.0//EN
METHOD:PUBLISH
X-PUBLISHED-TTL:P3D
REFRESH-INTERVAL:P3D
CALSCALE:GREGORIAN
BEGIN:VEVENT
DTSTART:20130828T143000Z
DTEND:20130828T153000Z
X-MICROSOFT-CDO-ALLDAYEVENT:FALSE
SUMMARY:Business@Breakfast
DESCRIPTION:Special Guest Speaker: Rene Ramirez\, Horace Mann Insurance Companies\n\nTopic: "What you need to know about your Auto Insurance\, but were afraid to ask!"\n\nBreakfast Sponsor: Rene Ramirez\, Horace Mann Insurance Companies\n\n\n\nIf you are interested in being a speaker or breakfast sponsor\, call the Chamber at 909-627-6177
X-ALT-DESC;FMTTYPE=text/html:Special Guest Speaker: Rene Ramirez\, Horace Mann Insurance Companies<br />\nTopic: &quot\;What you need to know about your Auto Insurance\, but were afraid to ask!&quot\;<br />\nBreakfast Sponsor: Rene Ramirez\, Horace Mann Insurance Companies<br />\n<br />\nIf you are interested in being a speaker or breakfast sponsor\, call the Chamber at 909-627-6177
LOCATION:Chamber Office 13150 7th Street\, Chino
UID:e.1511.372
SEQUENCE:3
DTSTAMP:20260421T235055Z
URL:https://business.chinovalleychamber.com/events/details/business-breakfast-08-28-2013-372
END:VEVENT

END:VCALENDAR
