BEGIN:VCALENDAR
VERSION:2.0
PRODID:-//ChamberMaster//Event Calendar 2.0//EN
METHOD:PUBLISH
X-PUBLISHED-TTL:P3D
REFRESH-INTERVAL:P3D
CALSCALE:GREGORIAN
BEGIN:VEVENT
DTSTART:20130814T143000Z
DTEND:20130814T153000Z
X-MICROSOFT-CDO-ALLDAYEVENT:FALSE
SUMMARY:Business@Breakfast
DESCRIPTION:Special Guest Speaker: Maggie Harris\, Casa of San Bernardino County\n\nTopic: Casa and the Need for Volunteers\n\nBreakfast Sponsor: Open\n\n\n\nIf you are interested in being a speaker or breakfast sponsor\, call the Chamber Office at 909-627-6177
X-ALT-DESC;FMTTYPE=text/html:Special Guest Speaker: Maggie Harris\, Casa of San Bernardino County<br />\nTopic: Casa and the Need for Volunteers<br />\nBreakfast Sponsor: Open<br />\n<br />\nIf you are interested in being a speaker or breakfast sponsor\, call the Chamber Office at 909-627-6177
LOCATION:Chamber Office 13150 7th Street\, Chino
UID:e.1511.370
SEQUENCE:3
DTSTAMP:20260421T235055Z
URL:https://business.chinovalleychamber.com/events/details/business-breakfast-08-14-2013-370
END:VEVENT

END:VCALENDAR
