BEGIN:VCALENDAR
VERSION:2.0
PRODID:-//ChamberMaster//Event Calendar 2.0//EN
METHOD:PUBLISH
X-PUBLISHED-TTL:P3D
REFRESH-INTERVAL:P3D
CALSCALE:GREGORIAN
BEGIN:VEVENT
DTSTART:20130807T143000Z
DTEND:20130807T153000Z
X-MICROSOFT-CDO-ALLDAYEVENT:FALSE
SUMMARY:Business@Breakfast
DESCRIPTION:Special Guest Speaker: Alba Moesser\, Primerica\n\nTopic: Financial Wellness\n\nBreakfast Sponsor: Alba Moesser\, Primerica\n\n\n\nIf you are interested in being a speaker or breakfast sponsor\, call the Chamber Office at 909-627-6177
X-ALT-DESC;FMTTYPE=text/html:Special Guest Speaker: Alba Moesser\, Primerica<br />\nTopic: Financial Wellness<br />\nBreakfast Sponsor: Alba Moesser\, Primerica<br />\n<br />\nIf you are interested in being a speaker or breakfast sponsor\, call the Chamber Office at 909-627-6177
LOCATION:Chamber Office 13150 7th Street\, Chino
UID:e.1511.369
SEQUENCE:3
DTSTAMP:20260421T235621Z
URL:https://business.chinovalleychamber.com/events/details/business-breakfast-08-07-2013-369
END:VEVENT

END:VCALENDAR
