BEGIN:VCALENDAR
VERSION:2.0
PRODID:-//ChamberMaster//Event Calendar 2.0//EN
METHOD:PUBLISH
X-PUBLISHED-TTL:P3D
REFRESH-INTERVAL:P3D
CALSCALE:GREGORIAN
BEGIN:VEVENT
DTSTART:20130724T143000Z
DTEND:20130724T153000Z
X-MICROSOFT-CDO-ALLDAYEVENT:FALSE
SUMMARY:Business@Breakfast
DESCRIPTION:Special Guest Speaker: Bobby Rupal\, Attorney\n\n	Topic: Employment Law\, What You Need to Know\n\n	Breakfast Sponsor: Open\n\n	\n\n	If you are interested in being a speaker or breakfast sponsor\, call the Chamber at 909-627-6177
X-ALT-DESC;FMTTYPE=text/html:<p class="MsoNormal" style="margin: 0in 0in 0pt\;">\n	Special Guest Speaker: Bobby Rupal\, Attorney<br />\n	Topic: Employment Law\, What You Need to Know<br />\n	Breakfast Sponsor: Open<br />\n	<br />\n	If you are interested in being a speaker or breakfast sponsor\, call the Chamber at 909-627-6177</p>\n<p class="MsoNormal" style="margin: 0in 0in 0pt 0.5in\; text-indent: 0.5in\;">\n	&nbsp\;</p>\n
LOCATION:Chamber Office 13150 7th Street\, Chino
UID:e.1511.340
SEQUENCE:3
DTSTAMP:20260422T011506Z
URL:https://business.chinovalleychamber.com/events/details/business-breakfast-07-24-2013-340
END:VEVENT

END:VCALENDAR
