BEGIN:VCALENDAR
VERSION:2.0
PRODID:-//ChamberMaster//Event Calendar 2.0//EN
METHOD:PUBLISH
X-PUBLISHED-TTL:P3D
REFRESH-INTERVAL:P3D
CALSCALE:GREGORIAN
BEGIN:VEVENT
DTSTART:20140716T143000Z
DTEND:20140716T153000Z
X-MICROSOFT-CDO-ALLDAYEVENT:FALSE
SUMMARY:Business@Breakfast
DESCRIPTION:Business@Breakfast - Networking with the Chamber\n\nBreakfast Sponsor: Lynette Goodenough\, Good Enough Travel\n\n\n\nClick Here to View Full-Size PDF\n\n\n\nIf you are interested in being a speaker or breakfast sponsor\, call the Chamber Office at 909-627-6177
X-ALT-DESC;FMTTYPE=text/html:<br />\n<strong>Business@Breakfast -&nbsp\;<span style="color: rgb(178\, 34\, 34)\;">Networking with the Chamber</span><br />\nBreakfast Sponsor: <font color="#b22222">Lynette Goodenough\, Good Enough Travel<br />\n<br />\n<a href="http://cloud.chambermaster.com/userfiles/UserFiles/chambers/1511/File/BB7-16-14-1.pdf">Click Here to View Full-Size PDF</a></font><br />\n<br />\nIf you are interested in being a speaker or breakfast sponsor\, call the Chamber Office at 909-627-6177</strong>
LOCATION:Chamber Office 13150 7th Street\, Chino
UID:e.1511.614
SEQUENCE:3
DTSTAMP:20260421T081823Z
URL:https://business.chinovalleychamber.com/events/details/business-breakfast-07-16-2014-614
END:VEVENT

END:VCALENDAR
