BEGIN:VCALENDAR
VERSION:2.0
PRODID:-//ChamberMaster//Event Calendar 2.0//EN
METHOD:PUBLISH
X-PUBLISHED-TTL:P3D
REFRESH-INTERVAL:P3D
CALSCALE:GREGORIAN
BEGIN:VEVENT
DTSTART:20130710T143000Z
DTEND:20130710T153000Z
X-MICROSOFT-CDO-ALLDAYEVENT:FALSE
SUMMARY:Business@Breakfast
DESCRIPTION:Special Guest Speaker: Eric Hasanoff\, GEM Mortgage\n\nTopic: Open\n\nBreakfast Sponsor: Eric Hasanoff\, GEM Mortgage\n\n\n\nIf you are interested in being a speaker or breakfast sponsor\, call the Chamber at 909-627-6177
X-ALT-DESC;FMTTYPE=text/html:Special Guest Speaker: Eric Hasanoff\, GEM Mortgage<br />\nTopic: Open<br />\nBreakfast Sponsor: Eric Hasanoff\, GEM Mortgage<br />\n<br />\nIf you are interested in being a speaker or breakfast sponsor\, call the Chamber at 909-627-6177
LOCATION:Chamber Office 13150 7th Street\, Chino
UID:e.1511.338
SEQUENCE:3
DTSTAMP:20260422T011505Z
URL:https://business.chinovalleychamber.com/events/details/business-breakfast-07-10-2013-338
END:VEVENT

END:VCALENDAR
