BEGIN:VCALENDAR
VERSION:2.0
PRODID:-//ChamberMaster//Event Calendar 2.0//EN
METHOD:PUBLISH
X-PUBLISHED-TTL:P3D
REFRESH-INTERVAL:P3D
CALSCALE:GREGORIAN
BEGIN:VEVENT
DTSTART:20130626T143000Z
DTEND:20130626T153000Z
X-MICROSOFT-CDO-ALLDAYEVENT:FALSE
SUMMARY:Business@Breakfast
DESCRIPTION:Special Guest Speaker: Lorna McDonald\, Memory Training Workshop\n\nTopic: Increase Your Sales by Improving Your Memory! I'll Show You How!\n\nSponsor: Chino Valley Chamber\n\n\n\nIf you are interested in being a speaker or sponsor\, call the Chamber Office at 909-627-6177
X-ALT-DESC;FMTTYPE=text/html:Special Guest Speaker: Lorna McDonald\, Memory Training Workshop<br />\nTopic: Increase Your Sales by Improving Your Memory! I&#39\;ll Show You How!<br />\nSponsor: Chino Valley Chamber<br />\n<br />\nIf you are interested in being a speaker or sponsor\, call the Chamber Office at 909-627-6177
LOCATION:Chamber Office 13150 Seventh Street\, Chino
UID:e.1511.303
SEQUENCE:3
DTSTAMP:20260422T024703Z
URL:https://business.chinovalleychamber.com/events/details/business-breakfast-06-26-2013-303
END:VEVENT

END:VCALENDAR
