BEGIN:VCALENDAR
VERSION:2.0
PRODID:-//ChamberMaster//Event Calendar 2.0//EN
METHOD:PUBLISH
X-PUBLISHED-TTL:P3D
REFRESH-INTERVAL:P3D
CALSCALE:GREGORIAN
BEGIN:VEVENT
DTSTART:20130619T143000Z
DTEND:20130619T153000Z
X-MICROSOFT-CDO-ALLDAYEVENT:FALSE
SUMMARY:Business@Breakfast
DESCRIPTION:With Special Guest and Sponsor: Mike Cantu\, IE Networkers\n\nTopic: Do You Know What Tools Are Available?\n\n\n\nIf you are interested in being a speaker or sponsor\, call the Chamber Office at 909-627-6177
X-ALT-DESC;FMTTYPE=text/html:With Special Guest and Sponsor: Mike Cantu\, IE Networkers<br />\nTopic: Do You Know What Tools Are Available?<br />\n<br />\nIf you are interested in being a speaker or sponsor\, call the Chamber Office at 909-627-6177<br />\n<br />\n<br />\n
LOCATION:Chamber Office 13150 Seventh Street\, Chino
UID:e.1511.302
SEQUENCE:3
DTSTAMP:20260422T024627Z
URL:https://business.chinovalleychamber.com/events/details/business-breakfast-06-19-2013-302
END:VEVENT

END:VCALENDAR
