BEGIN:VCALENDAR
VERSION:2.0
PRODID:-//ChamberMaster//Event Calendar 2.0//EN
METHOD:PUBLISH
X-PUBLISHED-TTL:P3D
REFRESH-INTERVAL:P3D
CALSCALE:GREGORIAN
BEGIN:VEVENT
DTSTART:20130612T143000Z
DTEND:20130612T153000Z
X-MICROSOFT-CDO-ALLDAYEVENT:FALSE
SUMMARY:Business@Breakfast
DESCRIPTION:Special Guest Speaker: Lynette Goodenough\, Good Enough Travel\n\nTopic: Open\n\nSponsor: Open\n\n\n\nIf you are interested in being a speaker or sponsor\, call the Chamber Office at 909-627-6177
X-ALT-DESC;FMTTYPE=text/html:Special Guest Speaker: Lynette Goodenough\, Good Enough Travel<br />\nTopic: Open<br />\nSponsor: Open<br />\n<br />\nIf you are interested in being a speaker or sponsor\, call the Chamber Office at 909-627-6177
LOCATION:Chamber Office 13150 Seventh Street\, Chino
UID:e.1511.301
SEQUENCE:3
DTSTAMP:20260422T024633Z
URL:https://business.chinovalleychamber.com/events/details/business-breakfast-06-12-2013-301
END:VEVENT

END:VCALENDAR
