BEGIN:VCALENDAR
VERSION:2.0
PRODID:-//ChamberMaster//Event Calendar 2.0//EN
METHOD:PUBLISH
X-PUBLISHED-TTL:P3D
REFRESH-INTERVAL:P3D
CALSCALE:GREGORIAN
BEGIN:VEVENT
DTSTART:20130605T143000Z
DTEND:20130605T153000Z
X-MICROSOFT-CDO-ALLDAYEVENT:FALSE
SUMMARY:Business@Breakfast
DESCRIPTION:Speaker: Erika Ellis\, Recycling Specialist\, County of San Bernardino\, Dept. of Public Works Solid Waste Management Division\n\nTopic: The New AB 341 Mandatory Commercial Recycling Law\n\nSponsor: CVCC\n\nIf you are interested in being a speaker or sponsor\, call the Chamber Office at 909-627-6177
X-ALT-DESC;FMTTYPE=text/html:Speaker: Erika Ellis\, Recycling Specialist\, County of San Bernardino\, Dept. of Public Works Solid Waste Management Division<br />\nTopic: The New AB 341 Mandatory Commercial Recycling Law<br />\nSponsor: CVCC<br />\nIf you are interested in being a speaker or sponsor\, call the Chamber Office at 909-627-6177
LOCATION:Chamber Office 13150 Seventh Street\, Chino
UID:e.1511.300
SEQUENCE:3
DTSTAMP:20260422T024632Z
URL:https://business.chinovalleychamber.com/events/details/business-breakfast-06-05-2013-300
END:VEVENT

END:VCALENDAR
