BEGIN:VCALENDAR
VERSION:2.0
PRODID:-//ChamberMaster//Event Calendar 2.0//EN
METHOD:PUBLISH
X-PUBLISHED-TTL:P3D
REFRESH-INTERVAL:P3D
CALSCALE:GREGORIAN
BEGIN:VEVENT
DTSTART:20140604T143000Z
DTEND:20140604T153000Z
X-MICROSOFT-CDO-ALLDAYEVENT:FALSE
SUMMARY:Business@Breakfast
DESCRIPTION:Special Guest: Andy Anderson\, CPA\n\nTopic: "Does Despicable Me describe your banker? The care and feeding of bankers from a non-banker point of view"   \n\n\n\nBreakfast Sponsor: Andy Anderson\, CPA\n\n\n\nIf you are interested in being a speaker or breakfast sponsor\, call the Chamber Office at 909-627-6177\n\n \nClick Here to View Full-Size Image
X-ALT-DESC;FMTTYPE=text/html:<strong><span style="color: rgb(178\, 34\, 34)\;">Special Guest:&nbsp\;Andy Anderson\, CPA</span><br />\nTopic: &quot\;Does Despicable Me describe your banker? The care and feeding of bankers from a non-banker point of view&quot\;<span style="color: rgb(128\, 0\, 0)\;">&nbsp\;&#8203\;&nbsp\;</span><br />\n<br />\n<span style="color: rgb(178\, 34\, 34)\;">Breakfast Sponsor:&nbsp\;Andy Anderson\, CPA</span><br />\n<br />\nIf you are interested in being a speaker or breakfast sponsor\, call the Chamber Office at 909-627-6177</strong><br />\n&nbsp\;\n<div style="text-align: center\;"><a href="http://cloud.chambermaster.com/userfiles/UserFiles/chambers/1511/File/BB/BBAndyAnderson.jpg">Click Here to View Full-Size Image</a></div>\n<br />\n&nbsp\;
LOCATION:Chamber Office 13150 7th Street\, Chino
UID:e.1511.590
SEQUENCE:3
DTSTAMP:20260419T125245Z
URL:https://business.chinovalleychamber.com/events/details/business-breakfast-06-04-2014-590
END:VEVENT

END:VCALENDAR
