BEGIN:VCALENDAR
VERSION:2.0
PRODID:-//ChamberMaster//Event Calendar 2.0//EN
METHOD:PUBLISH
X-PUBLISHED-TTL:P3D
REFRESH-INTERVAL:P3D
CALSCALE:GREGORIAN
BEGIN:VEVENT
DTSTART:20130529T143000Z
DTEND:20130529T153000Z
X-MICROSOFT-CDO-ALLDAYEVENT:FALSE
SUMMARY:Business@Breakfast
DESCRIPTION:Speaker: J. Vela\, D & M Publications\n\nTopic: Who's Who\, Take Your Place\n\nSponsor: Open\n\n\n\nIf you are interested in being a speaker or sponsor\, call the Chamber Office at 909-627-6177
X-ALT-DESC;FMTTYPE=text/html:Speaker: J. Vela\, D &amp\; M Publications<br />\nTopic: Who&#39\;s Who\, Take Your Place<br />\nSponsor: Open<br />\n<br />\nIf you are interested in being a speaker or sponsor\, call the Chamber Office at&nbsp\;909-627-6177
LOCATION:Chino Chamber Office 13150 Seventh Street\, Chino
UID:e.1511.276
SEQUENCE:3
DTSTAMP:20260422T041553Z
URL:https://business.chinovalleychamber.com/events/details/business-breakfast-05-29-2013-276
END:VEVENT

END:VCALENDAR
