BEGIN:VCALENDAR
VERSION:2.0
PRODID:-//ChamberMaster//Event Calendar 2.0//EN
METHOD:PUBLISH
X-PUBLISHED-TTL:P3D
REFRESH-INTERVAL:P3D
CALSCALE:GREGORIAN
BEGIN:VEVENT
DTSTART:20140528T143000Z
DTEND:20140528T153000Z
X-MICROSOFT-CDO-ALLDAYEVENT:FALSE
SUMMARY:Business@Breakfast
DESCRIPTION:Special Guest: Ted Alejandre\, Deputy Superintendent\, SBCO Superintendent of Schools\n\nTopic: Districts Face Challenge of Prioritizing Public Input on School Spending\n\nBreakfast Sponsor: Ted Alejandre\, Deputy Superintendent\, SBCO Superintendent of Schools
X-ALT-DESC;FMTTYPE=text/html:Special Guest: Ted Alejandre\, Deputy Superintendent\, SBCO Superintendent of Schools<br />\nTopic: Districts Face Challenge of Prioritizing Public Input on School Spending<br />\nBreakfast Sponsor: Ted Alejandre\, Deputy Superintendent\, SBCO Superintendent of Schools
LOCATION:Chamber Office 13150 7th Street\, Chino
UID:e.1511.575
SEQUENCE:3
DTSTAMP:20260421T110308Z
URL:https://business.chinovalleychamber.com/events/details/business-breakfast-05-28-2014-575
END:VEVENT

END:VCALENDAR
