BEGIN:VCALENDAR
VERSION:2.0
PRODID:-//ChamberMaster//Event Calendar 2.0//EN
METHOD:PUBLISH
X-PUBLISHED-TTL:P3D
REFRESH-INTERVAL:P3D
CALSCALE:GREGORIAN
BEGIN:VEVENT
DTSTART:20130522T143000Z
DTEND:20130522T153000Z
X-MICROSOFT-CDO-ALLDAYEVENT:FALSE
SUMMARY:Business@Breakfast
DESCRIPTION:Speaker: Roger Ledoux\, R & R Pest & Termite Control\n\nTopic: Stored Food Pests\n\nSponsor: Roger Ledoux\, R & R Pest & Termite Control\n\n\n\nIf you are interested in being a speaker or sponsor\, call the Chamber Office at 627-6177
X-ALT-DESC;FMTTYPE=text/html:Speaker: Roger Ledoux\, R &amp\; R Pest &amp\; Termite Control<br />\nTopic: Stored Food Pests<br />\nSponsor: Roger Ledoux\, R &amp\; R Pest &amp\; Termite Control<br />\n<br />\nIf you are interested in being a speaker or sponsor\,&nbsp\;call the Chamber Office at&nbsp\;627-6177
LOCATION:Chamber Office 13150 Seventh Street\, Chino
UID:e.1511.275
SEQUENCE:3
DTSTAMP:20260422T041612Z
URL:https://business.chinovalleychamber.com/events/details/business-breakfast-05-22-2013-275
END:VEVENT

END:VCALENDAR
