BEGIN:VCALENDAR
VERSION:2.0
PRODID:-//ChamberMaster//Event Calendar 2.0//EN
METHOD:PUBLISH
X-PUBLISHED-TTL:P3D
REFRESH-INTERVAL:P3D
CALSCALE:GREGORIAN
BEGIN:VEVENT
DTSTART:20140521T143000Z
DTEND:20140521T153000Z
X-MICROSOFT-CDO-ALLDAYEVENT:FALSE
SUMMARY:Business@Breakfast
DESCRIPTION:Special Guest: Ryan Gackstetter\, City of Chino Hills Senior Planner\n\nTopic: Review and discuss the City's proposed signage regulations. The City is updating the regulations & welcomes input fron the Chamber members.\n\nBreakfast Sponsor:  Ryan Gackstetter\, City of Chino Hills Senior Planner
X-ALT-DESC;FMTTYPE=text/html:Special Guest: Ryan Gackstetter\, City of Chino Hills Senior Planner<br />\nTopic: Review and discuss the City&#39\;s proposed signage regulations. The City is updating the regulations &amp\; welcomes input fron the Chamber members.<br />\nBreakfast Sponsor:&nbsp\;&#8203\;Ryan&nbsp\;Gackstetter\, City of Chino Hills Senior Planner
LOCATION:Chamber Office 13150 7th Street\, Chino
UID:e.1511.588
SEQUENCE:3
DTSTAMP:20260421T110217Z
URL:https://business.chinovalleychamber.com/events/details/business-breakfast-05-21-2014-588
END:VEVENT

END:VCALENDAR
