BEGIN:VCALENDAR
VERSION:2.0
PRODID:-//ChamberMaster//Event Calendar 2.0//EN
METHOD:PUBLISH
X-PUBLISHED-TTL:P3D
REFRESH-INTERVAL:P3D
CALSCALE:GREGORIAN
BEGIN:VEVENT
DTSTART:20130515T143000Z
DTEND:20130515T153000Z
X-MICROSOFT-CDO-ALLDAYEVENT:FALSE
SUMMARY:Business@Breakfast
DESCRIPTION:Speaker: Scott Foties\, Edward Jones and Stacy Sponseller\, Protective Life Insurance\n\nTopic: Understanding Social Security\n\nSponsor: Scott Foties. Edward Jones\n\n\n\nIf you are interested in being a speaker or sponsor\, call the Chamber Office at 909-627-6177
X-ALT-DESC;FMTTYPE=text/html:Speaker: Scott Foties\, Edward Jones and Stacy Sponseller\, Protective Life Insurance<br />\nTopic: Understanding Social Security<br />\nSponsor: Scott Foties. Edward Jones<br />\n<br />\nIf you are interested in being a speaker or sponsor\, call the Chamber Office at 909-627-6177<br />\n
LOCATION:Chamber Office 13150 Seventh Street\, Chino
UID:e.1511.270
SEQUENCE:3
DTSTAMP:20260422T041705Z
URL:https://business.chinovalleychamber.com/events/details/business-breakfast-05-15-2013-270
END:VEVENT

END:VCALENDAR
