BEGIN:VCALENDAR
VERSION:2.0
PRODID:-//ChamberMaster//Event Calendar 2.0//EN
METHOD:PUBLISH
X-PUBLISHED-TTL:P3D
REFRESH-INTERVAL:P3D
CALSCALE:GREGORIAN
BEGIN:VEVENT
DTSTART:20140514T143000Z
DTEND:20140514T153000Z
X-MICROSOFT-CDO-ALLDAYEVENT:FALSE
SUMMARY:Business@Breakfast
DESCRIPTION:Special Guest: Pat Neuman\n\nOn-Line Marketers Topic: Help! How Do We Build A 5 Star Reputation? Breakfast Sponsor: Pat Neuman\, On-Line Marketers
X-ALT-DESC;FMTTYPE=text/html:<span style="color: rgb(255\, 0\, 0)\;"><strong>Special Guest: Pat Neuman</strong></span><br />\nOn-Line Marketers Topic: Help! How Do We Build A 5 Star Reputation? Breakfast Sponsor: Pat Neuman\, On-Line Marketers
LOCATION:Chamber Office: 13150 7th Street\, Chino
UID:e.1511.574
SEQUENCE:3
DTSTAMP:20260421T110218Z
URL:https://business.chinovalleychamber.com/events/details/business-breakfast-05-14-2014-574
END:VEVENT

END:VCALENDAR
