BEGIN:VCALENDAR
VERSION:2.0
PRODID:-//ChamberMaster//Event Calendar 2.0//EN
METHOD:PUBLISH
X-PUBLISHED-TTL:P3D
REFRESH-INTERVAL:P3D
CALSCALE:GREGORIAN
BEGIN:VEVENT
DTSTART:20130508T143000Z
DTEND:20130508T153000Z
X-MICROSOFT-CDO-ALLDAYEVENT:FALSE
SUMMARY:Business@Breakfast
DESCRIPTION:Special Guest Speaker: Alvin Burkett\, AFLAC Insurance\n\nTopic: Open\n\nSponsor: Open\n\nIf you are interested in being a speaker or sponsor\, call the Chamber Office at 627-6177
X-ALT-DESC;FMTTYPE=text/html:Special Guest Speaker: Alvin Burkett\, AFLAC Insurance<br />\nTopic: Open<br />\nSponsor: Open<br />\nIf you are interested in being a speaker or sponsor\, call the Chamber Office at 627-6177<br />\n
LOCATION:Chamber Office 13150 Seventh St.\, Chino
UID:e.1511.267
SEQUENCE:3
DTSTAMP:20260422T042039Z
URL:https://business.chinovalleychamber.com/events/details/business-breakfast-05-08-2013-267
END:VEVENT

END:VCALENDAR
