BEGIN:VCALENDAR
VERSION:2.0
PRODID:-//ChamberMaster//Event Calendar 2.0//EN
METHOD:PUBLISH
X-PUBLISHED-TTL:P3D
REFRESH-INTERVAL:P3D
CALSCALE:GREGORIAN
BEGIN:VEVENT
DTSTART:20140507T143000Z
DTEND:20140507T153000Z
X-MICROSOFT-CDO-ALLDAYEVENT:FALSE
SUMMARY:Business@Breakfast
DESCRIPTION:Special Guest: Bryce Carter\, Owner of Spurtle - An Artisan Oatmeal Experience Topic: The Wizard of Oates\n\nBreakfast Sponsor: Bryce Carter
X-ALT-DESC;FMTTYPE=text/html:Special Guest: Bryce Carter\, Owner of Spurtle - An Artisan Oatmeal Experience Topic: The Wizard of Oates<br />\nBreakfast Sponsor: Bryce Carter
LOCATION:Chamber Office 13150 7th Street\, Chino
UID:e.1511.573
SEQUENCE:3
DTSTAMP:20260421T110940Z
URL:https://business.chinovalleychamber.com/events/details/business-breakfast-05-07-2014-573
END:VEVENT

END:VCALENDAR
