BEGIN:VCALENDAR
VERSION:2.0
PRODID:-//ChamberMaster//Event Calendar 2.0//EN
METHOD:PUBLISH
X-PUBLISHED-TTL:P3D
REFRESH-INTERVAL:P3D
CALSCALE:GREGORIAN
BEGIN:VEVENT
DTSTART:20140430T143000Z
DTEND:20140430T153000Z
X-MICROSOFT-CDO-ALLDAYEVENT:FALSE
SUMMARY:Business@Breakfast
DESCRIPTION:Special Guest: JoAnne Blaauw\, On A Mission Korean Karate Center\n\nTopic: Awareness and Self Defense\n\n\n\nBreakfast Sponsor: JoAnne Blaauw\, On A Mission Korean Karate Center\n\n\n\nIf you are interested in being a speaker or breakfast sponsor\, call the Chamber Office at 909-627-6177
X-ALT-DESC;FMTTYPE=text/html:<span style="color: rgb(128\, 0\, 0)\;"><strong>Special Guest:</strong>&nbsp\;</span><strong>JoAnne Blaauw\, On A Mission Korean Karate Center</strong><br />\n<strong><span style="color: rgb(128\, 0\, 0)\;">Topic:</span>&nbsp\;Awareness and Self Defense<br />\n<br />\n<span style="color: rgb(128\, 0\, 0)\;">Breakfast Sponsor:</span>&nbsp\;JoAnne&nbsp\;Blaauw\, On A Mission Korean Karate Center</strong><br />\n<br />\n<strong style="font-family: arial\;">If you are interested in being a speaker or breakfast sponsor\, call the Chamber Office at 909-627-6177</strong><br />\n<br style="font-family: arial\;" />\n&nbsp\; &nbsp\; &nbsp\; &nbsp\;
LOCATION:Chamber Office 13150 7th Street\, Chino
UID:e.1511.566
SEQUENCE:3
DTSTAMP:20260421T135751Z
URL:https://business.chinovalleychamber.com/events/details/business-breakfast-04-30-2014-566
END:VEVENT

END:VCALENDAR
