BEGIN:VCALENDAR
VERSION:2.0
PRODID:-//ChamberMaster//Event Calendar 2.0//EN
METHOD:PUBLISH
X-PUBLISHED-TTL:P3D
REFRESH-INTERVAL:P3D
CALSCALE:GREGORIAN
BEGIN:VEVENT
DTSTART:20130424T143000Z
DTEND:20130424T153000Z
X-MICROSOFT-CDO-ALLDAYEVENT:FALSE
SUMMARY:Business@Breakfast
DESCRIPTION:With Special Guest: Phyllis Solegere\, LTC Partners and Insurance\n\nTopic: 3 IN 4 Need More\, The Facts About Long Term Care Planning\n\nSponsor: Alba Moesser\, Primerica\n\n\n\nIf you are interested in being a speaker or sponsor\, call the Chamber Office at 909-627-6177
X-ALT-DESC;FMTTYPE=text/html:With Special Guest: Phyllis Solegere\, LTC Partners and Insurance<br />\nTopic: 3&nbsp\;IN 4 Need More\, The Facts About Long Term Care&nbsp\;Planning<br />\nSponsor: Alba Moesser\, Primerica<br />\n<br />\nIf you are interested in being a speaker or sponsor\, call the Chamber Office at&nbsp\;909-627-6177<br />\n
LOCATION:Chamber Office 13150 Seventh Street\, Chino
UID:e.1511.265
SEQUENCE:3
DTSTAMP:20260422T055341Z
URL:https://business.chinovalleychamber.com/events/details/business-breakfast-04-24-2013-265
END:VEVENT

END:VCALENDAR
