BEGIN:VCALENDAR
VERSION:2.0
PRODID:-//ChamberMaster//Event Calendar 2.0//EN
METHOD:PUBLISH
X-PUBLISHED-TTL:P3D
REFRESH-INTERVAL:P3D
CALSCALE:GREGORIAN
BEGIN:VEVENT
DTSTART:20130417T143000Z
DTEND:20130417T153000Z
X-MICROSOFT-CDO-ALLDAYEVENT:FALSE
SUMMARY:Business@Breakfast
DESCRIPTION:With Special Guest\, Joseph Rodriguez\, Inland Valley Daily Bulletin\n\nTopic: The Power of Audience Based Advertising in a Digital World\n\nSponsor: Frank Ortiz\, A Shot of Happiness\n\n\n\nIf you are interested in being a speaker of sponsor\, call the Chamber Office at 909-627-6177
X-ALT-DESC;FMTTYPE=text/html:With Special Guest\, Joseph Rodriguez\, Inland Valley Daily Bulletin<br />\nTopic: The Power of Audience Based Advertising in a Digital World<br />\nSponsor: Frank Ortiz\, A Shot of Happiness<br />\n<br />\nIf you are interested in being a speaker of sponsor\, call the Chamber Office at 909-627-6177
LOCATION:Chamber Office 13150 Seventh St.\, Chino
UID:e.1511.264
SEQUENCE:3
DTSTAMP:20260422T055413Z
URL:https://business.chinovalleychamber.com/events/details/business-breakfast-04-17-2013-264
END:VEVENT

END:VCALENDAR
