BEGIN:VCALENDAR
VERSION:2.0
PRODID:-//ChamberMaster//Event Calendar 2.0//EN
METHOD:PUBLISH
X-PUBLISHED-TTL:P3D
REFRESH-INTERVAL:P3D
CALSCALE:GREGORIAN
BEGIN:VEVENT
DTSTART:20140416T143000Z
DTEND:20140416T153000Z
X-MICROSOFT-CDO-ALLDAYEVENT:FALSE
SUMMARY:Business@Breakfast
DESCRIPTION:Special Guest: Scott Foties\, Edward Jones Financial Services\n\nTopic: The Entrepreneurial Equation in Protecting Your Business   \n\n\n\nBreakfast Sponsor: Scott Foties\, Edward Jones Financial Services\n\n\n\nIf you are interested in being a speaker or breakfast sponsor\, call the Chamber Office at 909-627-6177
X-ALT-DESC;FMTTYPE=text/html:<br />\n<strong>Special Guest:<span style="color: rgb(128\, 0\, 0)\;">&nbsp\;</span><font color="#b22222">Scott Foties\, Edward Jones Financial Services</font><br />\nTopic: <span style="color:#B22222\;">The Entrepreneurial Equation in Protecting Your Business</span><span style="color:#800000\;">&nbsp\;&#8203\;&nbsp\;</span><br />\n<br />\nBreakfast Sponsor:&nbsp\;<b style="color: rgb(178\, 34\, 34)\;">Scott&nbsp\;Foties\, Edward Jones Financial Services</b><br />\n<br />\nIf you are interested in being a speaker or breakfast sponsor\, call the Chamber Office at 909-627-6177</strong>
LOCATION:Chamber Office 13150 7th Street\, Chino
UID:e.1511.559
SEQUENCE:3
DTSTAMP:20260421T122854Z
URL:https://business.chinovalleychamber.com/events/details/business-breakfast-04-16-2014-559
END:VEVENT

END:VCALENDAR
