BEGIN:VCALENDAR
VERSION:2.0
PRODID:-//ChamberMaster//Event Calendar 2.0//EN
METHOD:PUBLISH
X-PUBLISHED-TTL:P3D
REFRESH-INTERVAL:P3D
CALSCALE:GREGORIAN
BEGIN:VEVENT
DTSTART:20130410T143000Z
DTEND:20130410T153000Z
X-MICROSOFT-CDO-ALLDAYEVENT:FALSE
SUMMARY:Business@Breakfast
DESCRIPTION:Networking\n\nWith Special Guest and Sponsor: Karon Mulligan\, US Bank\n\nTopic: What Would Happen to Your Business if Something Happened to You?\n\n\n\nIf you are interested in being a speaker or sponsor\, call the Chamber Office at 909-627-6177
X-ALT-DESC;FMTTYPE=text/html:Networking<br />\nWith Special Guest&nbsp\;and Sponsor: Karon Mulligan\, US Bank<br />\nTopic: What Would Happen to Your Business if Something Happened to You?<br />\n<br />\nIf you are interested in being a speaker or sponsor\, call the Chamber Office at 909-627-6177
LOCATION:Chamber Office 13150 Seventh Street\, Chino
UID:e.1511.263
SEQUENCE:3
DTSTAMP:20260422T055342Z
URL:https://business.chinovalleychamber.com/events/details/business-breakfast-04-10-2013-263
END:VEVENT

END:VCALENDAR
