BEGIN:VCALENDAR
VERSION:2.0
PRODID:-//ChamberMaster//Event Calendar 2.0//EN
METHOD:PUBLISH
X-PUBLISHED-TTL:P3D
REFRESH-INTERVAL:P3D
CALSCALE:GREGORIAN
BEGIN:VEVENT
DTSTART:20140409T143000Z
DTEND:20140409T153000Z
X-MICROSOFT-CDO-ALLDAYEVENT:FALSE
SUMMARY:Business@Breakfast
DESCRIPTION:Special Guests: Ryan Dacko and Massiel DeGuervara\, Chino Valley Fire District \n\nTopic: Preventing Commercial Kitchen Fires  \n\nBreakfast Sponsor: Chino Valley Fire District\n\n\n\nIf you are interested in being a speaker or breakfast sponsor\, call the Chamber Office at 909-627-6177
X-ALT-DESC;FMTTYPE=text/html:<p class="MsoNormal"><span style="color:#800000\;"><strong>Special Guests:</strong>&nbsp\;</span><span style="color:#B22222\;"><strong>Ryan&nbsp\;Dacko&nbsp\;and&nbsp\;Massiel&nbsp\;DeGuervara\, Chino Valley Fire District&#8203\;</strong></span><br />\n<strong><span style="color:#800000\;">Topic:</span> <span style="color:#B22222\;">Preventing Commercial Kitchen Fires&#8203\;&nbsp\;</span><br />\n<span style="color:#800000\;">Breakfast Sponsor:</span> <span style="color:#B22222\;">Chino Valley Fire District</span><br />\n<br />\nIf you are interested in being a speaker or breakfast sponsor\, call the Chamber Office at 909-627-6177</strong><br />\n<br style="font-family: arial\;" />\n&nbsp\; &nbsp\; &nbsp\; &nbsp\;</p>\n
LOCATION:Chamber Office 13150 7th Street\, Chino
UID:e.1511.556
SEQUENCE:3
DTSTAMP:20260421T123000Z
URL:https://business.chinovalleychamber.com/events/details/business-breakfast-04-09-2014-556
END:VEVENT

END:VCALENDAR
