BEGIN:VCALENDAR
VERSION:2.0
PRODID:-//ChamberMaster//Event Calendar 2.0//EN
METHOD:PUBLISH
X-PUBLISHED-TTL:P3D
REFRESH-INTERVAL:P3D
CALSCALE:GREGORIAN
BEGIN:VEVENT
DTSTART:20140319T143000Z
DTEND:20140319T153000Z
X-MICROSOFT-CDO-ALLDAYEVENT:FALSE
SUMMARY:Business@Breakfast
DESCRIPTION:Special Guest Speaker: Gigi Fix\, SERVPRO of Chino\, Chino Hills\n\nTopic: Water Damage\n\nBreakfast Sponsor: Gigi Fix\, SERVPRO of Chino\, Chino Hills\n\n\n\nIf you are interested in being a speaker or breakfast sponsor\, call the Chamber Office at 909-627-6177
X-ALT-DESC;FMTTYPE=text/html:<span style="font-family: arial\; color: rgb(165\, 42\, 42)\;"><strong>Special Guest Speaker:&nbsp\;</strong></span><strong>Gigi Fix\, SERVPRO of Chino\, Chino Hills</strong><br style="font-family: arial\;" />\n<strong style="font-family: arial\;">Topic: Water Damage<br />\nBreakfast Sponsor: Gigi Fix\, SERVPRO of Chino\, Chino Hills</strong><br style="font-family: arial\;" />\n<br />\n<strong style="font-family: arial\;">If you are interested in being a speaker or breakfast sponsor\, call the Chamber Office at 909-627-6177</strong>
LOCATION:Chamber Office 13150 7th Street\, Chino
UID:e.1511.539
SEQUENCE:3
DTSTAMP:20260421T135759Z
URL:https://business.chinovalleychamber.com/events/details/business-breakfast-03-19-2014-539
END:VEVENT

END:VCALENDAR
