BEGIN:VCALENDAR
VERSION:2.0
PRODID:-//ChamberMaster//Event Calendar 2.0//EN
METHOD:PUBLISH
X-PUBLISHED-TTL:P3D
REFRESH-INTERVAL:P3D
CALSCALE:GREGORIAN
BEGIN:VEVENT
DTSTART:20130313T143000Z
DTEND:20130313T153000Z
X-MICROSOFT-CDO-ALLDAYEVENT:FALSE
SUMMARY:Business@Breakfast
DESCRIPTION:Business@Breakfast\, Knowledge & Networking\n\nNetworking with the Chamber\n\nBreakfast Sponsor: Jim Keneaster\, ABC:/Services
X-ALT-DESC;FMTTYPE=text/html:Business@Breakfast\, Knowledge &amp\; Networking<br />\nNetworking with the Chamber<br />\nBreakfast Sponsor: Jim Keneaster\, ABC:/Services
LOCATION:Chamber Office 13150 Seventh St.\, Chino
UID:e.1511.254
SEQUENCE:3
DTSTAMP:20260422T072135Z
URL:https://business.chinovalleychamber.com/events/details/business-breakfast-03-13-2013-254
END:VEVENT

END:VCALENDAR
