BEGIN:VCALENDAR
VERSION:2.0
PRODID:-//ChamberMaster//Event Calendar 2.0//EN
METHOD:PUBLISH
X-PUBLISHED-TTL:P3D
REFRESH-INTERVAL:P3D
CALSCALE:GREGORIAN
BEGIN:VEVENT
DTSTART:20140312T143000Z
DTEND:20140312T153000Z
X-MICROSOFT-CDO-ALLDAYEVENT:FALSE
SUMMARY:Business@Breakfast
DESCRIPTION:Special Guest Speaker: Frank Ortiz\, A Shot At Happiness\n\nTopic: 8 Keys to Exceptional Success\n\nBreakfast Sponsor: Frank Ortiz\, A Shot At Happiness\n\n\n\n\n\nIf you are interested in being a speaker or breakfast sponsor\, call the Chamber Office at 909-627-6177
X-ALT-DESC;FMTTYPE=text/html:<span style="font-family: arial\; color: rgb(165\, 42\, 42)\;"><strong>Special Guest Speaker:&nbsp\;</strong></span><strong>Frank Ortiz\, A Shot At Happiness</strong><br style="font-family: arial\;" />\n<strong style="font-family: arial\;">Topic: 8 Keys to Exceptional Success<br />\nBreakfast Sponsor:&nbsp\;</strong><strong>Frank Ortiz\, A Shot At Happiness</strong><br style="font-family: arial\;" />\n<br style="font-family: arial\;" />\n<br style="font-family: arial\;" />\n<strong style="font-family: arial\;">If you are interested in being a speaker or breakfast sponsor\, call the Chamber Office at 909-627-6177</strong>
LOCATION:Chamber Office 13150 7th Street\, Chino
UID:e.1511.538
SEQUENCE:3
DTSTAMP:20260421T135737Z
URL:https://business.chinovalleychamber.com/events/details/business-breakfast-03-12-2014-538
END:VEVENT

END:VCALENDAR
