BEGIN:VCALENDAR
VERSION:2.0
PRODID:-//ChamberMaster//Event Calendar 2.0//EN
METHOD:PUBLISH
X-PUBLISHED-TTL:P3D
REFRESH-INTERVAL:P3D
CALSCALE:GREGORIAN
BEGIN:VEVENT
DTSTART:20140305T153000Z
DTEND:20140305T163000Z
X-MICROSOFT-CDO-ALLDAYEVENT:FALSE
SUMMARY:Business@Breakfast
DESCRIPTION:The Dream Team Business Review - How can the Chamber Benefit Your Business?\n\nBreakfast Sponsor: Chino Valley Chamber of Commerce\n\n\n\nIf you are interested in being a speaker or breakfast sponsor\, call the Chamber Office at 909-627-6177
X-ALT-DESC;FMTTYPE=text/html:<span style="font-family:times new roman\;"><span style="font-size:14px\;"><span style="font-family:arial\;"><strong>The Dream Team Business Review - How can the Chamber Benefit Your Business?</strong><br style="font-family: arial\;" />\n<strong style="font-family: arial\;">Breakfast Sponsor: Chino Valley Chamber of Commerce</strong></span><br style="font-family: arial\;" />\n<br style="font-family: arial\;" />\n<strong style="font-family: arial\;">If you are interested in being a speaker or breakfast sponsor\, call the Chamber Office at 909-627-6177</strong></span></span>
LOCATION:Chamber Office 13150 7th Street\, Chino
UID:e.1511.537
SEQUENCE:3
DTSTAMP:20260421T135750Z
URL:https://business.chinovalleychamber.com/events/details/business-breakfast-03-05-2014-537
END:VEVENT

END:VCALENDAR
