BEGIN:VCALENDAR
VERSION:2.0
PRODID:-//ChamberMaster//Event Calendar 2.0//EN
METHOD:PUBLISH
X-PUBLISHED-TTL:P3D
REFRESH-INTERVAL:P3D
CALSCALE:GREGORIAN
BEGIN:VEVENT
DTSTART:20140226T153000Z
DTEND:20140226T163000Z
X-MICROSOFT-CDO-ALLDAYEVENT:FALSE
SUMMARY:Business@Breakfast
DESCRIPTION:Special Guest Speaker: Kevin Perkins\, CalChoice Investments\, Inc.\n\nTopic: Why Land is for You\n\nBreakfast Sponsor: Kevin Perkins\, CalChoice Investments\, Inc.\n\n\n\nIf you are interested in being a speaker or breakfast sponsor\, call the Chamber Office at 909-627-6177
X-ALT-DESC;FMTTYPE=text/html:<span style="font-family:arial\;"><span style="color:#A52A2A\;"><strong>Special Guest Speaker: Kevin Perkins\, CalChoice Investments\, Inc.</strong></span><br />\n<strong>Topic: Why Land is for You<br />\nBreakfast Sponsor:&nbsp\;Kevin Perkins\,&nbsp\;CalChoice&nbsp\;Investments\, Inc.</strong><br />\n<br />\n<strong>If you are interested in being a speaker or breakfast sponsor\, call the Chamber Office at 909-627-6177</strong></span>
LOCATION:Chamber Office 13150 7th Street\, Chino
UID:e.1511.536
SEQUENCE:3
DTSTAMP:20260421T164226Z
URL:https://business.chinovalleychamber.com/events/details/business-breakfast-02-26-2014-536
END:VEVENT

END:VCALENDAR
