BEGIN:VCALENDAR
VERSION:2.0
PRODID:-//ChamberMaster//Event Calendar 2.0//EN
METHOD:PUBLISH
X-PUBLISHED-TTL:P3D
REFRESH-INTERVAL:P3D
CALSCALE:GREGORIAN
BEGIN:VEVENT
DTSTART:20140219T153000Z
DTEND:20140219T163000Z
X-MICROSOFT-CDO-ALLDAYEVENT:FALSE
SUMMARY:Business@Breakfast
DESCRIPTION:Special Guest Speaker: Bill Edman\, Liberty Tax\n\nTopic: ACA and Business Taxes\n\nBreakfast Sponsor: Bill Edman\, Liberty Tax\n\n\n\nIf you are interested in being a speaker or breakfast sponsor\, call the Chamber Office at 909-627-6177
X-ALT-DESC;FMTTYPE=text/html:<strong>Special Guest Speaker:&nbsp\;Bill&nbsp\;Edman\, Liberty Tax</strong><br />\n<strong>Topic: ACA&nbsp\;and Business Taxes<br />\nBreakfast Sponsor:&nbsp\;</strong><strong>Bill Edman\, Liberty Tax</strong><br />\n<br />\n<strong>If you are interested in being a speaker or breakfast sponsor\, call the Chamber Office at 909-627-6177</strong>
LOCATION:Chamber Office 13150 7th Street\, Chino
UID:e.1511.516
SEQUENCE:3
DTSTAMP:20260421T164149Z
URL:https://business.chinovalleychamber.com/events/details/business-breakfast-02-19-2014-516
END:VEVENT

END:VCALENDAR
