BEGIN:VCALENDAR
VERSION:2.0
PRODID:-//ChamberMaster//Event Calendar 2.0//EN
METHOD:PUBLISH
X-PUBLISHED-TTL:P3D
REFRESH-INTERVAL:P3D
CALSCALE:GREGORIAN
BEGIN:VEVENT
DTSTART:20140205T153000Z
DTEND:20140205T163000Z
X-MICROSOFT-CDO-ALLDAYEVENT:FALSE
SUMMARY:Business@Breakfast
DESCRIPTION:Special Guest Speaker: Brian Roberts\, ACN\n\nTopic: The 5 LIES we tell ourselves about Small Business and the New Economy\n\nBreakfast Sponsor: Brian Roberts\, ACN\n\n\n\nIf you are interested in being a speaker or breakfast sponsor\, call the Chamber Office at 909-627-6177
X-ALT-DESC;FMTTYPE=text/html:<strong>Special Guest Speaker: Brian Roberts\, ACN</strong><br />\n<strong>Topic: The 5 LIES we tell ourselves about Small Business and the New Economy<br />\nBreakfast Sponsor:&nbsp\;</strong><strong>Brian Roberts\,&nbsp\;ACN</strong><br />\n<br />\n<strong>If you are interested in being a speaker or breakfast sponsor\, call the Chamber Office at 909-627-6177</strong>
LOCATION:Chamber Office 13150 7th Street\, Chino
UID:e.1511.513
SEQUENCE:3
DTSTAMP:20260421T151656Z
URL:https://business.chinovalleychamber.com/events/details/business-breakfast-02-05-2014-513
END:VEVENT

END:VCALENDAR
