BEGIN:VCALENDAR
VERSION:2.0
PRODID:-//ChamberMaster//Event Calendar 2.0//EN
METHOD:PUBLISH
X-PUBLISHED-TTL:P3D
REFRESH-INTERVAL:P3D
CALSCALE:GREGORIAN
BEGIN:VEVENT
DTSTART:20140129T153000Z
DTEND:20140129T163000Z
X-MICROSOFT-CDO-ALLDAYEVENT:FALSE
SUMMARY:Business@Breakfast
DESCRIPTION:Special Guest Speaker: Daniel Choi\, Guardian Life and Park Securities\n\nTopic: Financial Balance\n\nBreakfast Sponsor: Daniel Choi\, Guardian Life and Park Securities\n\n\n\nIf you are interested in being a speaker or breakfast sponsor\, call the Chamber Office at 909-627-6177
X-ALT-DESC;FMTTYPE=text/html:<strong>Special Guest Speaker: Daniel Choi\, Guardian Life and Park Securities</strong><br />\n<strong>Topic: Financial Balance<br />\nBreakfast Sponsor:&nbsp\;</strong><strong>Daniel&nbsp\;Choi\, Guardian Life and Park Securities</strong><br />\n<br />\n<strong>If you are interested in being a speaker or breakfast sponsor\, call the Chamber Office at 909-627-6177</strong>
LOCATION:Chamber Office 13150 7th Street\, Chino
UID:e.1511.500
SEQUENCE:3
DTSTAMP:20260421T164149Z
URL:https://business.chinovalleychamber.com/events/details/business-breakfast-01-29-2014-500
END:VEVENT

END:VCALENDAR
