BEGIN:VCALENDAR
VERSION:2.0
PRODID:-//ChamberMaster//Event Calendar 2.0//EN
METHOD:PUBLISH
X-PUBLISHED-TTL:P3D
REFRESH-INTERVAL:P3D
CALSCALE:GREGORIAN
BEGIN:VEVENT
DTSTART:20140108T153000Z
DTEND:20140108T163000Z
X-MICROSOFT-CDO-ALLDAYEVENT:FALSE
SUMMARY:Business@Breakfast
DESCRIPTION:Special Guest Speaker: Chino Valley Fire District\n\nTopic: Fire Extinguishers\n\nBreakfast Sponsor: Chino Valley Fire District\n\n\n\nIf you are interested in being a speaker or breakfast sponsor\, call the Chamber Office at 909-627-6177
X-ALT-DESC;FMTTYPE=text/html:<strong>Special Guest Speaker: Chino Valley Fire District</strong><br />\n<strong>Topic: Fire Extinguishers<br />\nBreakfast Sponsor: Chino Valley Fire District</strong><br />\n<br />\n<strong>If you are interested in being a speaker or breakfast sponsor\, call the Chamber Office at 909-627-6177</strong>
LOCATION:Chamber Office 13150 7th Street\, Chino
UID:e.1511.492
SEQUENCE:3
DTSTAMP:20260421T181329Z
URL:https://business.chinovalleychamber.com/events/details/business-breakfast-01-08-2014-492
END:VEVENT

END:VCALENDAR
