BEGIN:VCALENDAR
VERSION:2.0
PRODID:-//ChamberMaster//Event Calendar 2.0//EN
METHOD:PUBLISH
X-PUBLISHED-TTL:P3D
REFRESH-INTERVAL:P3D
CALSCALE:GREGORIAN
BEGIN:VEVENT
DTSTART:20131008T180000Z
DTEND:20131008T183000Z
X-MICROSOFT-CDO-ALLDAYEVENT:FALSE
SUMMARY:Bright Now! Dental - Open House & Ribbon Cutting
DESCRIPTION:Come join our Open House & Ribbon Cutting Celebration.
X-ALT-DESC;FMTTYPE=text/html:<span style="color:#000080\;"><span style="font-size:16px\;"><strong>Come join our Open House &amp\; Ribbon Cutting Celebration.</strong></span></span>
LOCATION:Bright Now! Dental 12027 Central Ave.\, Chino
UID:e.1511.438
SEQUENCE:3
DTSTAMP:20260421T211330Z
URL:https://business.chinovalleychamber.com/events/details/bright-now-dental-open-house-ribbon-cutting-10-08-2013-438
END:VEVENT

END:VCALENDAR
