BEGIN:VCALENDAR
VERSION:2.0
PRODID:-//ChamberMaster//Event Calendar 2.0//EN
METHOD:PUBLISH
X-PUBLISHED-TTL:P3D
REFRESH-INTERVAL:P3D
CALSCALE:GREGORIAN
BEGIN:VEVENT
DTSTART:20140506T003000Z
DTEND:20140506T040000Z
X-MICROSOFT-CDO-ALLDAYEVENT:FALSE
SUMMARY:BINGO DE MAYO - Presented by Rancho del Chino Rotary
DESCRIPTION:Its that time of year for another Bingo de Mayo with the Rancho del Chino Rotary Club!\n\n\n\nEach ticket includes 10 Games of Bingo and a Mexican Food Dinner.\n\n\n\nProceeds Benefit Local Charities\, including the Chino Neighborhood House\, Caring for the Hills\, Boy Scouts and the Chino Valley YMCA.\n\n\n\nMust be 18 years old to play bingo.
X-ALT-DESC;FMTTYPE=text/html:<span style="font-size:14px\;"><strong><span style="color:#000080\;"><span style="font-family:arial\;">Its that time of year for another Bingo de Mayo with the Rancho del Chino Rotary Club!</span></span></strong></span><br />\n<br />\n<strong><span style="font-family:arial\;">Each ticket includes 10 Games of Bingo and a Mexican Food Dinner.</span></strong><br />\n<br />\n<span style="font-size:14px\;"><strong>Proceeds Benefit Local Charities\, including the Chino Neighborhood House\, Caring for the Hills\, Boy Scouts and the Chino Valley YMCA.</strong><br />\n<br />\n<span style="color:#000080\;"><strong>Must be 18 years old to play bingo.</strong></span></span><br />\n&nbsp\;
LOCATION:Chino Fairgrounds - Brinderson Hall 5410 Edison Ave.\, Chino
UID:e.1511.568
SEQUENCE:3
DTSTAMP:20260421T123356Z
URL:https://business.chinovalleychamber.com/events/details/bingo-de-mayo-presented-by-rancho-del-chino-rotary-05-05-2014-568
END:VEVENT

END:VCALENDAR
